BEGIN:VCALENDAR
VERSION:2.0
PRODID:-//Softwariza3 - ECPv6.15.20//NONSGML v1.0//EN
CALSCALE:GREGORIAN
METHOD:PUBLISH
X-WR-CALNAME:Softwariza3
X-ORIGINAL-URL:https://softwariza3.es
X-WR-CALDESC:Eventos para Softwariza3
REFRESH-INTERVAL;VALUE=DURATION:PT1H
X-Robots-Tag:noindex
X-PUBLISHED-TTL:PT1H
BEGIN:VTIMEZONE
TZID:Europe/Helsinki
BEGIN:DAYLIGHT
TZOFFSETFROM:+0200
TZOFFSETTO:+0300
TZNAME:EEST
DTSTART:20220327T010000
END:DAYLIGHT
BEGIN:STANDARD
TZOFFSETFROM:+0300
TZOFFSETTO:+0200
TZNAME:EET
DTSTART:20221030T010000
END:STANDARD
BEGIN:DAYLIGHT
TZOFFSETFROM:+0200
TZOFFSETTO:+0300
TZNAME:EEST
DTSTART:20230326T010000
END:DAYLIGHT
BEGIN:STANDARD
TZOFFSETFROM:+0300
TZOFFSETTO:+0200
TZNAME:EET
DTSTART:20231029T010000
END:STANDARD
BEGIN:DAYLIGHT
TZOFFSETFROM:+0200
TZOFFSETTO:+0300
TZNAME:EEST
DTSTART:20240331T010000
END:DAYLIGHT
BEGIN:STANDARD
TZOFFSETFROM:+0300
TZOFFSETTO:+0200
TZNAME:EET
DTSTART:20241027T010000
END:STANDARD
END:VTIMEZONE
BEGIN:VEVENT
DTSTART;TZID=Europe/Helsinki:20230525T163000
DTEND;TZID=Europe/Helsinki:20230525T173000
DTSTAMP:20260421T233956
CREATED:20230502T160705Z
LAST-MODIFIED:20230530T115110Z
UID:236430-1685032200-1685035800@softwariza3.es
SUMMARY:Webinar: Recibe todas tus notificaciones en un único lugar
DESCRIPTION:Descubre cómo protegerte de sanciones al mantener un seguimiento adecuado de tus notificaciones\n¿Tu PYME está preparada para gestionar las notificaciones electrónicas de la Agencia Tributaria\, la Seguridad Social y otras entidades? Si quieres simplificar y automatizar la gestión de tus notificaciones\, no te pierdas nuestro próximo webinar sobre Portal Neos para Notificaciones Electrónicas en PYMEs. \nCon Portal Neos\, podrás recibir\, visualizar y gestionar todas tus notificaciones electrónicas en un solo lugar\, lo que te permitirá cumplir con tus obligaciones legales de manera más eficiente y segura. \nEn este webinar gratuito\, te mostraremos cómo Portal Neos puede ayudar a tu PYME a gestionar de manera efectiva tus notificaciones electrónicas. Aprenderás a utilizar las principales funciones de la plataforma y conocerás los beneficios de su integración con otras soluciones de Wolters Kluwer. \n			\n				Inscríbete al Webinar\n			\n				\n				\n				\n				\n				 En este webinar veremos: \n\nCómo centralizar todas las notificaciones en un único portal.\nCómo podrás evitar sanciones por no leer notificaciones obligtorias.\nCómo recibir avisos de todas tus notificaciones.\nCómo ahorrar tiempo en la gestión de trámites administrativos.\n\nEl webinar se realizará el próximo 25 de mayo a partir de las 16:30 horas. ¡Regístrate ahora y descubre cómo Portal Neos puede simplificar la gestión de tus notificaciones electrónicas en tu PYME! \n  \n			\n				\n				\n				\n				\n				\n			\n			\n				\n				\n				\n				\n			\n				\n				\n				\n				\n				\n				\n				\n				\n				\n				\n				PONENTES\n			\n			\n				\n				\n				\n				\n			\n				\n				\n				\n				\n				\n				\n				\n				\n				\n				\n				\n			\n				\n				\n				\n				\n				Agustín Martínez\n			\n				\n				\n				\n				\n				Especialista en Soluciones de Software para Pymes y Despacho Profesional \n			\n			\n				\n				\n				\n				\n				\n				\n				\n				\n				\n				\n			\n				\n				\n				\n				\n				Vanesa González\n			\n				\n				\n				\n				\n				Especialista en Soluciones de Software para Pymes y Despacho Profesional \n			\n			\n				\n				\n				\n				\n			\n				\n				\n			\n				\n				\n				\n				\n				\n				\n				\n				\n				\n				\n				\n				\n				\n				\n				\n				\n				\n				ORGANIZA\n			\n			\n				\n				\n				\n				\n			\n				\n				\n				\n				\n				\n				\n				\n				\n				\n				\n				\n			\n			\n				\n				\n				\n				\n				\n				\n				\n				\n				\n				\n			\n			\n				\n				\n				\n				\n			\n				\n				\n			\n				\n				\n				\n				\n				\n				\n				\n				\n				\n				\n				\n				\n				\n			\n				\n				\n				\n				\n				\n				\n				\n				\n				\n				INSCRIPCIÓN\n			\n			\n				\n				\n				\n				\n				\n			\n				\n				\n				\n				\n			\n				\n				\n				\n				\n				\n				\n			\n				\n				\n				\n				\n				\n				\n				\n				\n				\n				Recibe todas tus notificaciones en un único lugar25/5/2023j/n/Y4:30pm CEST2023-05-25T14:30:00Zg:ia T1 hora
URL:https://softwariza3.es/eventos/webinar-portal-neos-pyme/
LOCATION:Online
ATTACH;FMTTYPE=image/jpeg:https://softwariza3.es/wp-content/uploads/Webinar-Portal-Neos-Pymes-25-mayo-2.0.jpg
END:VEVENT
END:VCALENDAR