BEGIN:VCALENDAR
VERSION:2.0
PRODID:-//Softwariza3 - ECPv6.15.20//NONSGML v1.0//EN
CALSCALE:GREGORIAN
METHOD:PUBLISH
X-WR-CALNAME:Softwariza3
X-ORIGINAL-URL:https://softwariza3.es
X-WR-CALDESC:Eventos para Softwariza3
REFRESH-INTERVAL;VALUE=DURATION:PT1H
X-Robots-Tag:noindex
X-PUBLISHED-TTL:PT1H
BEGIN:VTIMEZONE
TZID:Europe/Helsinki
BEGIN:DAYLIGHT
TZOFFSETFROM:+0200
TZOFFSETTO:+0300
TZNAME:EEST
DTSTART:20210328T010000
END:DAYLIGHT
BEGIN:STANDARD
TZOFFSETFROM:+0300
TZOFFSETTO:+0200
TZNAME:EET
DTSTART:20211031T010000
END:STANDARD
BEGIN:DAYLIGHT
TZOFFSETFROM:+0200
TZOFFSETTO:+0300
TZNAME:EEST
DTSTART:20220327T010000
END:DAYLIGHT
BEGIN:STANDARD
TZOFFSETFROM:+0300
TZOFFSETTO:+0200
TZNAME:EET
DTSTART:20221030T010000
END:STANDARD
BEGIN:DAYLIGHT
TZOFFSETFROM:+0200
TZOFFSETTO:+0300
TZNAME:EEST
DTSTART:20230326T010000
END:DAYLIGHT
BEGIN:STANDARD
TZOFFSETFROM:+0300
TZOFFSETTO:+0200
TZNAME:EET
DTSTART:20231029T010000
END:STANDARD
END:VTIMEZONE
BEGIN:VEVENT
DTSTART;TZID=Europe/Helsinki:20221201T093000
DTEND;TZID=Europe/Helsinki:20221201T103000
DTSTAMP:20260421T233458
CREATED:20220510T164437Z
LAST-MODIFIED:20221124T120934Z
UID:234232-1669887000-1669890600@softwariza3.es
SUMMARY:Webinar: ¿Cumples con el RGPD?
DESCRIPTION: Si eres una asesoría\, este webinar es para tí\nEl 96% de las empresas que cree que sí pueden ser sancionadas.\n¿Tu cliente está pagando 200€ al año por tener el RGPD actualizado? Entonces lo más probable es que no cumpla con el RGPD y la empresa pueda ser sancionada con hasta 20 millones de euros o el 4% de su facturación anual. \nEn esta sesión\, nuestro equipo de expertos del Departamento LegalTech mostrará en qué puntos suelen fallar todas las empresas y cómo detectar si hay un problema con el cumplimiento del RGPD. Te presentaremos los diez mandamientos de protección de datos que debe seguir tu asesoría: \nTemario: \n1. Analizarás los riesgos de tu organización.2. Realizarás evaluaciones de impacto cuando sea preciso.3. Nombrarás a tu Delegado de Protección de Datos.4. Firmarás acuerdos de confidencialidad con tu plantilla.5. Informarás a tus clientes sobre todos los tratamientos de sus datos6. No comunicarás datos personales de tus clientes sin legitimación.7. Firmarás contratos de encargo con tus proveedores.8. Implantarás medidas de seguridad técnicas y organizativas para garantizar el tratamiento de los datos de tus clientes.9. Formarás y concienciarás a tu personal sobre el tratamiento de datos que realizan.10. Auditarás periódicamente el funcionamiento de tu sistema de protección de datos. \nAdemás\, ponemos a tu disposición a un equipo de 6 consultores con dilatada experiencia en el sector para resolver todas tus dudas. \n			\n			\n				\n				\n				\n				\n			\n				\n				\n				\n				\n				\n				\n				\n				\n				\n				\n				PONENTES\n			\n			\n				\n				\n				\n				\n			\n				\n				\n				\n				\n				\n				\n				\n				\n				\n				\n				\n			\n				\n				\n				\n				\n				Agustín Martínez\n			\n				\n				\n				\n				\n				Especialista en Soluciones de Software para Pymes y Despacho Profesional \n			\n			\n				\n				\n				\n				\n				\n				\n				\n				\n				\n				\n			\n				\n				\n				\n				\n				Laura Huerta\n			\n				\n				\n				\n				\n				 Abogada especialista en derecho TIC y DPD \n			\n			\n				\n				\n				\n				\n			\n				\n				\n			\n				\n				\n				\n				\n				\n				\n				\n				\n				\n				\n				\n				\n				\n			\n				\n				\n				\n				\n				\n				\n				\n				\n				\n				INSCRIPCIÓN\n			\n			\n				\n				\n				\n				\n				\n			\n				\n				\n				\n				\n			\n				\n				\n				\n				\n				\n				\n			\n				\n				\n				\n				\n				\n				\n				\n				\n				\n				¿Cumples con el RGPD? El 96% de las empresas que cree que sí pueden ser sancionadas.1/12/2022j/n/Y9:30am CET2022-12-01T08:30:00Zg:ia T1 hora\n			\n			\n				\n				\n				\n				\n				\n			\n				\n				\n				\n				\n			\n				\n				\n				\n				\n				\n				\n				\n				\n				\n				\n				ORGANIZA
URL:https://softwariza3.es/eventos/legaltech/
LOCATION:Online
ATTACH;FMTTYPE=image/jpeg:https://softwariza3.es/wp-content/uploads/WEBINAR-1DIC-LEGALTECH.jpg
END:VEVENT
END:VCALENDAR