BEGIN:VCALENDAR
VERSION:2.0
PRODID:-//Softwariza3 - ECPv6.15.20//NONSGML v1.0//EN
CALSCALE:GREGORIAN
METHOD:PUBLISH
X-ORIGINAL-URL:https://softwariza3.es
X-WR-CALDESC:Eventos para Softwariza3
REFRESH-INTERVAL;VALUE=DURATION:PT1H
X-Robots-Tag:noindex
X-PUBLISHED-TTL:PT1H
BEGIN:VTIMEZONE
TZID:Europe/Helsinki
BEGIN:DAYLIGHT
TZOFFSETFROM:+0200
TZOFFSETTO:+0300
TZNAME:EEST
DTSTART:20210328T010000
END:DAYLIGHT
BEGIN:STANDARD
TZOFFSETFROM:+0300
TZOFFSETTO:+0200
TZNAME:EET
DTSTART:20211031T010000
END:STANDARD
BEGIN:DAYLIGHT
TZOFFSETFROM:+0200
TZOFFSETTO:+0300
TZNAME:EEST
DTSTART:20220327T010000
END:DAYLIGHT
BEGIN:STANDARD
TZOFFSETFROM:+0300
TZOFFSETTO:+0200
TZNAME:EET
DTSTART:20221030T010000
END:STANDARD
BEGIN:DAYLIGHT
TZOFFSETFROM:+0200
TZOFFSETTO:+0300
TZNAME:EEST
DTSTART:20230326T010000
END:DAYLIGHT
BEGIN:STANDARD
TZOFFSETFROM:+0300
TZOFFSETTO:+0200
TZNAME:EET
DTSTART:20231029T010000
END:STANDARD
END:VTIMEZONE
BEGIN:VEVENT
DTSTART;TZID=Europe/Helsinki:20221005T091500
DTEND;TZID=Europe/Helsinki:20221005T100000
DTSTAMP:20260421T235747
CREATED:20220927T144833Z
LAST-MODIFIED:20220929T100944Z
UID:234832-1664961300-1664964000@softwariza3.es
SUMMARY:Webinar: Descubre el mejor CRM para a3ERP
DESCRIPTION:Conoce el gestor de relaciones con clientes al alcance de la PYME\nCRM.es es el gestor de relaciones con clientes totalmente integrable con tu software de gestión a3ERP. Descubre todos los beneficios de integrarlo e incluirlo en las gestiones diarias de tu PYME. \nTe lo presentamos todo el 5 de octubre de 2022 a las 09:15h ¿Te lo vas a perder? \nTemario : \n\n¿Qué es y cómo me puede ayudar un CRM?.\nMejora la gestión del tiempo.\nControl del proceso de ventas.\nMódulos adicionales\, RGPD\, Firmas\, Nota de gastos\, etc.\nIntegración con a3ERP\n\n			\n			\n				\n				\n				\n				\n			\n				\n				\n				\n				\n				\n				\n				\n				\n				\n				\n				PONENTES\n			\n			\n				\n				\n				\n				\n			\n				\n				\n				\n				\n				\n				\n				\n				\n				\n				\n				\n			\n				\n				\n				\n				\n				Rodrigo Gallardo\n			\n				\n				\n				\n				\n				Product Manager CRM.es \n			\n			\n				\n				\n				\n				\n				\n				\n				\n				\n				\n				\n			\n				\n				\n				\n				\n				Vanesa González \n			\n				\n				\n				\n				\n				Especialista en Soluciones de Software para empresas \n			\n			\n				\n				\n				\n				\n			\n				\n				\n			\n				\n				\n				\n				\n				\n				\n				\n				\n				\n				\n				\n				\n				\n			\n				\n				\n				\n				\n				\n				\n				\n				\n				\n				INSCRIPCIÓN\n			\n			\n				\n				\n				\n				\n				\n			\n				\n				\n				\n				\n			\n				\n				\n				\n				\n				\n				\n			\n				\n				\n				\n				\n				\n				\n				\n				\n				\n				 | Softwariza35/10/2022j/n/Y9:15am CEST2022-10-05T07:15:00Zg:ia T45 minutos\n			\n			\n				\n				\n				\n				\n				\n			\n				\n				\n				\n				\n			\n				\n				\n				\n				\n				\n				\n				\n				\n				\n				\n				ORGANIZA
URL:https://softwariza3.es/eventos/webinar-descubre-el-mejor-crm-para-a3erp/
LOCATION:Online
ATTACH;FMTTYPE=image/png:https://softwariza3.es/wp-content/uploads/Webinar-5-octubre-crm.png
END:VEVENT
END:VCALENDAR