BEGIN:VCALENDAR
VERSION:2.0
PRODID:-//Softwariza3 - ECPv6.15.20//NONSGML v1.0//EN
CALSCALE:GREGORIAN
METHOD:PUBLISH
X-ORIGINAL-URL:https://softwariza3.es
X-WR-CALDESC:Eventos para Softwariza3
REFRESH-INTERVAL;VALUE=DURATION:PT1H
X-Robots-Tag:noindex
X-PUBLISHED-TTL:PT1H
BEGIN:VTIMEZONE
TZID:Europe/Helsinki
BEGIN:DAYLIGHT
TZOFFSETFROM:+0200
TZOFFSETTO:+0300
TZNAME:EEST
DTSTART:20210328T010000
END:DAYLIGHT
BEGIN:STANDARD
TZOFFSETFROM:+0300
TZOFFSETTO:+0200
TZNAME:EET
DTSTART:20211031T010000
END:STANDARD
BEGIN:DAYLIGHT
TZOFFSETFROM:+0200
TZOFFSETTO:+0300
TZNAME:EEST
DTSTART:20220327T010000
END:DAYLIGHT
BEGIN:STANDARD
TZOFFSETFROM:+0300
TZOFFSETTO:+0200
TZNAME:EET
DTSTART:20221030T010000
END:STANDARD
BEGIN:DAYLIGHT
TZOFFSETFROM:+0200
TZOFFSETTO:+0300
TZNAME:EEST
DTSTART:20230326T010000
END:DAYLIGHT
BEGIN:STANDARD
TZOFFSETFROM:+0300
TZOFFSETTO:+0200
TZNAME:EET
DTSTART:20231029T010000
END:STANDARD
END:VTIMEZONE
BEGIN:VEVENT
DTSTART;TZID=Europe/Helsinki:20220630T093000
DTEND;TZID=Europe/Helsinki:20220630T094500
DTSTAMP:20260422T001036
CREATED:20220510T081420Z
LAST-MODIFIED:20220721T131630Z
UID:234129-1656581400-1656582300@softwariza3.es
SUMMARY:Cómo solicitar soporte en el área de Computer-3 | Softwariza3
DESCRIPTION:¿Tienes dudas de cómo solicitar soporte?\nEn esta formación online de tan solo 15m resolverás todas tus dudas y consultas sobre la nueva herramienta de tickets para solicitar soporte. Además te mostraremos todas las funcionalidades del nuevo área de clientes. \nTemario: \n\nCreación de Tickets\nValoración de Tickets\nOpciones área de cliente\nFirma RGPD\n\n			\n			\n				\n				\n				\n				\n			\n				\n				\n				\n				\n				\n				\n			\n				\n				\n				\n				\n			\n				\n				\n			\n				\n				\n				\n				\n				\n				\n				\n				\n				\n				\n				\n				\n				\n			\n				\n				\n				\n				\n				\n				\n				\n				\n				\n				INSCRIPCIÓN\n			\n			\n				\n				\n				\n				\n				\n			\n				\n				\n				\n				\n			\n				\n				\n				\n				\n				\n				\n			\n				\n				\n				\n				\n				\n				\n				\n				\n				\n				Cómo solicitar soporte en Computer-3 | Softwariza330/6/2022j/n/Y9:30am CEST2022-06-30T07:30:00Zg:ia T15 minutos
URL:https://softwariza3.es/eventos/como-solicitar-soporte-en-el-area-de-computer3-softwariza3/
LOCATION:Online
ATTACH;FMTTYPE=image/png:https://softwariza3.es/wp-content/uploads/Formacion-area-de-clientes-30-06.png
END:VEVENT
END:VCALENDAR