BEGIN:VCALENDAR
VERSION:2.0
PRODID:-//Softwariza3 - ECPv6.15.20//NONSGML v1.0//EN
CALSCALE:GREGORIAN
METHOD:PUBLISH
X-ORIGINAL-URL:https://softwariza3.es
X-WR-CALDESC:Eventos para Softwariza3
REFRESH-INTERVAL;VALUE=DURATION:PT1H
X-Robots-Tag:noindex
X-PUBLISHED-TTL:PT1H
BEGIN:VTIMEZONE
TZID:Europe/Helsinki
BEGIN:DAYLIGHT
TZOFFSETFROM:+0200
TZOFFSETTO:+0300
TZNAME:EEST
DTSTART:20210328T010000
END:DAYLIGHT
BEGIN:STANDARD
TZOFFSETFROM:+0300
TZOFFSETTO:+0200
TZNAME:EET
DTSTART:20211031T010000
END:STANDARD
BEGIN:DAYLIGHT
TZOFFSETFROM:+0200
TZOFFSETTO:+0300
TZNAME:EEST
DTSTART:20220327T010000
END:DAYLIGHT
BEGIN:STANDARD
TZOFFSETFROM:+0300
TZOFFSETTO:+0200
TZNAME:EET
DTSTART:20221030T010000
END:STANDARD
BEGIN:DAYLIGHT
TZOFFSETFROM:+0200
TZOFFSETTO:+0300
TZNAME:EEST
DTSTART:20230326T010000
END:DAYLIGHT
BEGIN:STANDARD
TZOFFSETFROM:+0300
TZOFFSETTO:+0200
TZNAME:EET
DTSTART:20231029T010000
END:STANDARD
END:VTIMEZONE
BEGIN:VEVENT
DTSTART;TZID=Europe/Helsinki:20220401T093000
DTEND;TZID=Europe/Helsinki:20220401T101500
DTSTAMP:20260422T001022
CREATED:20220324T163808Z
LAST-MODIFIED:20220721T133722Z
UID:233908-1648805400-1648808100@softwariza3.es
SUMMARY:Tramitamos tu Bono Digital | Abierta convocatoria
DESCRIPTION:Nuevo Bono Digital ya disponible\nEn esta sesión de 45m te contaremos todos los pasos para solicitar tu BONO DIGITAL. Desde Softwariza3 con la colaboración de Tarves nos encargamos de toda la gestión sin coste para ti. \nPrograma: \n• Situación actual de la ayuda. ¿Qué es el bono Digital? Plazos y trámites.\n• Pasos para pedir tu bono digital\n• Cómo podemos ayudarte en todos estos trámites\n• Soluciones de Software bonificables. \n			\n			\n				\n				\n				\n				\n			\n				\n				\n				\n				\n				\n				\n				\n				\n				\n				\n				PONENTES\n			\n			\n				\n				\n				\n				\n			\n				\n				\n				\n				\n				\n				\n				\n				\n				\n				\n				\n			\n				\n				\n				\n				\n				Carlos Varona\n			\n				\n				\n				\n				\n				Consultor en Tarves Asesoria de Empresas \n			\n			\n				\n				\n				\n				\n				\n				\n				\n				\n				\n				\n			\n				\n				\n				\n				\n				Rosa Giménez\n			\n				\n				\n				\n				\n				Directora canal en Softwariza3 \n			\n			\n				\n				\n				\n				\n				\n				\n				\n				\n				\n				\n			\n				\n				\n				\n				\n				Fran Fernández\n			\n				\n				\n				\n				\n				Key Account Manager Softwariza3 \n			\n			\n				\n				\n				\n				\n			\n				\n				\n			\n				\n				\n				\n				\n				\n				\n				\n				\n				\n				\n				\n				\n				\n			\n				\n				\n				\n				\n				\n				\n				\n				\n				\n				INSCRIPCIÓN\n			\n			\n				\n				\n				\n				\n				\n			\n				\n				\n				\n				\n			\n				\n				\n				\n				\n				\n				\n			\n				\n				\n				\n				\n				\n				\n				\n				\n				\n				1/4/2022j/n/Y9:30am CEST2022-04-01T07:30:00Zg:ia T45 minutos\n			\n			\n				\n				\n				\n				\n				\n			\n				\n				\n				\n				\n			\n				\n				\n				\n				\n				\n				\n				\n				\n				\n				\n				ORGANIZA
URL:https://softwariza3.es/eventos/tramitamos-tu-bono-digital/
LOCATION:Online
ATTACH;FMTTYPE=image/jpeg:https://softwariza3.es/wp-content/uploads/Webinar-tramitamos-tu-bono-digital.jpg
END:VEVENT
BEGIN:VEVENT
DTSTART;TZID=Europe/Helsinki:20220422T100000
DTEND;TZID=Europe/Helsinki:20220422T110000
DTSTAMP:20260422T001022
CREATED:20220404T124651Z
LAST-MODIFIED:20220721T131632Z
UID:233962-1650621600-1650625200@softwariza3.es
SUMMARY:Webinar: a3factura\, la solución de facturación que te conecta con tus clientes
DESCRIPTION:Realiza las facturas electrónicas y cumple con la ley antifraude\na3factura es un programa de facturación online para autónomos y pymes que se integra con tu solución contable\, creando un entorno de trabajo colaborativo para el intercambio de información sin papeles. Con a3factura\, podrás ahorrar tiempo\, al mismo tiempo que ofreces un servicio innovador y de alto valor para que tus clientes de hoy sigan siendo tus clientes de mañana. \nTe lo enseñamos todo el 22 de abril de 2022 a las 10:00h ¿Te lo piensas perder? \nPrograma: \n\nBienvenida e introducción.\nDigitaliza tu despacho con a3factura\nAnticípate a las necesidades de tus clientes: Ley Crea y Crece y Ley Antifraude Fiscal.\nVentajas de que tus clientes trabajen con a3factura.\nDemo a3factura.\nRuegos y preguntas.\n\n  \n			\n			\n				\n				\n				\n				\n			\n				\n				\n				\n				\n				\n				\n				\n				\n				\n				\n				PONENTES\n			\n			\n				\n				\n				\n				\n			\n				\n				\n				\n				\n				\n				\n				\n				\n				\n				\n				\n			\n				\n				\n				\n				\n				Federico Martínez\n			\n				\n				\n				\n				\n				Channel Specialist | Advisors & SME’s en Wolters Kluwer Tax & Accounting España \n			\n			\n				\n				\n				\n				\n				\n				\n				\n				\n				\n				\n			\n				\n				\n				\n				\n				Vanesa González \n			\n				\n				\n				\n				\n				Especialista en Soluciones de Software para Pymes y Despacho Profesional \n			\n			\n				\n				\n				\n				\n			\n				\n				\n			\n				\n				\n				\n				\n				\n				\n				\n				\n				\n				\n				\n				\n				\n			\n				\n				\n				\n				\n				\n				\n				\n				\n				\n				INSCRIPCIÓN\n			\n			\n				\n				\n				\n				\n				\n			\n				\n				\n				\n				\n			\n				\n				\n				\n				\n				\n				\n			\n				\n				\n				\n				\n				\n				\n				\n				\n				\n				a3factura: La solución de facturación que te conecta con tus clientes22/4/2022j/n/Y10:00am CEST2022-04-22T08:00:00Zg:ia T1 hora\n			\n			\n				\n				\n				\n				\n				\n			\n				\n				\n				\n				\n			\n				\n				\n				\n				\n				\n				\n				\n				\n				\n				\n				ORGANIZA
URL:https://softwariza3.es/eventos/webinar-a3factura-la-solucion-de-facturacion-que-te-conecta-con-tus-clientes/
LOCATION:Online
ATTACH;FMTTYPE=image/jpeg:https://softwariza3.es/wp-content/uploads/Webinar-a3factura-2022.jpg
END:VEVENT
BEGIN:VEVENT
DTSTART;TZID=Europe/Helsinki:20220428T100000
DTEND;TZID=Europe/Helsinki:20220428T110000
DTSTAMP:20260422T001022
CREATED:20220405T075806Z
LAST-MODIFIED:20220721T131632Z
UID:233982-1651140000-1651143600@softwariza3.es
SUMMARY:Webinar: a3factura\, la solución de facturación que te conecta con tus clientes
DESCRIPTION:Realiza las facturas electrónicas y cumple con la ley antifraude\na3factura es un programa de facturación online para autónomos y pymes que se integra con tu solución contable\, creando un entorno de trabajo colaborativo para el intercambio de información sin papeles. Con a3factura\, podrás ahorrar tiempo\, al mismo tiempo que ofreces un servicio innovador y de alto valor para que tus clientes de hoy sigan siendo tus clientes de mañana. \nTe lo enseñamos todo el 28 de abril de 2022 a las 10:00h ¿Te lo piensas perder? \nPrograma: \n\nBienvenida e introducción.\nDigitaliza tu despacho con a3factura\nAnticípate a las necesidades de tus clientes: Ley Crea y Crece y Ley Antifraude Fiscal.\nVentajas de que tus clientes trabajen con a3factura.\nDemo a3factura.\nRuegos y preguntas.\n\n  \n			\n			\n				\n				\n				\n				\n			\n				\n				\n				\n				\n				\n				\n				\n				\n				\n				\n				PONENTES\n			\n			\n				\n				\n				\n				\n			\n				\n				\n				\n				\n				\n				\n				\n				\n				\n				\n				\n			\n				\n				\n				\n				\n				Federico Martínez\n			\n				\n				\n				\n				\n				Channel Specialist | Advisors & SME’s en Wolters Kluwer Tax & Accounting España \n			\n			\n				\n				\n				\n				\n				\n				\n				\n				\n				\n				\n			\n				\n				\n				\n				\n				Agustín Martínez \n			\n				\n				\n				\n				\n				Especialista en Soluciones de Software para Pymes y Despacho Profesional \n			\n			\n				\n				\n				\n				\n			\n				\n				\n			\n				\n				\n				\n				\n				\n				\n				\n				\n				\n				\n				\n				\n				\n			\n				\n				\n				\n				\n				\n				\n				\n				\n				\n				INSCRIPCIÓN\n			\n			\n				\n				\n				\n				\n				\n			\n				\n				\n				\n				\n			\n				\n				\n				\n				\n				\n				\n			\n				\n				\n				\n				\n				\n				\n				\n				\n				\n				a3factura: La solución de facturación que te conecta con tus clientes28/4/2022j/n/Y10:00am CEST2022-04-28T08:00:00Zg:ia T1 hora\n			\n			\n				\n				\n				\n				\n				\n			\n				\n				\n				\n				\n			\n				\n				\n				\n				\n				\n				\n				\n				\n				\n				\n				ORGANIZA
URL:https://softwariza3.es/eventos/webinar-a3factura-la-solucion-de-facturacion-que-te-conecta-con-tus-clientes-2/
LOCATION:Online
ATTACH;FMTTYPE=image/jpeg:https://softwariza3.es/wp-content/uploads/Webinar-a3factura-28-abril.jpg
END:VEVENT
END:VCALENDAR