BEGIN:VCALENDAR
VERSION:2.0
PRODID:-//Softwariza3 - ECPv6.15.20//NONSGML v1.0//EN
CALSCALE:GREGORIAN
METHOD:PUBLISH
X-WR-CALNAME:Softwariza3
X-ORIGINAL-URL:https://softwariza3.es
X-WR-CALDESC:Eventos para Softwariza3
REFRESH-INTERVAL;VALUE=DURATION:PT1H
X-Robots-Tag:noindex
X-PUBLISHED-TTL:PT1H
BEGIN:VTIMEZONE
TZID:Europe/Helsinki
BEGIN:DAYLIGHT
TZOFFSETFROM:+0200
TZOFFSETTO:+0300
TZNAME:EEST
DTSTART:20200329T010000
END:DAYLIGHT
BEGIN:STANDARD
TZOFFSETFROM:+0300
TZOFFSETTO:+0200
TZNAME:EET
DTSTART:20201025T010000
END:STANDARD
BEGIN:DAYLIGHT
TZOFFSETFROM:+0200
TZOFFSETTO:+0300
TZNAME:EEST
DTSTART:20210328T010000
END:DAYLIGHT
BEGIN:STANDARD
TZOFFSETFROM:+0300
TZOFFSETTO:+0200
TZNAME:EET
DTSTART:20211031T010000
END:STANDARD
BEGIN:DAYLIGHT
TZOFFSETFROM:+0200
TZOFFSETTO:+0300
TZNAME:EEST
DTSTART:20220327T010000
END:DAYLIGHT
BEGIN:STANDARD
TZOFFSETFROM:+0300
TZOFFSETTO:+0200
TZNAME:EET
DTSTART:20221030T010000
END:STANDARD
END:VTIMEZONE
BEGIN:VEVENT
DTSTART;TZID=Europe/Helsinki:20211006T093000
DTEND;TZID=Europe/Helsinki:20211006T103000
DTSTAMP:20260423T152109
CREATED:20210922T120307Z
LAST-MODIFIED:20220721T134036Z
UID:23-1633512600-1633516200@softwariza3.es
SUMMARY:Valoración de Puestos | De la exigencia Legal a los Modelos de Gestión Retributiva
DESCRIPTION:Convierte el proceso de valoración en una auténtica herramienta estratégica para definir una política salarial equitativa\, competitiva y motivadora.\nCon la entrada en vigor del RDL 902/2020\, de Igualdad retributiva entre mujeres y hombres\, es obligatorio disponer de una valoración de puestos de trabajo acorde con la ley. \nEn este Webinar descubrirá las claves para sacar partido a esa obligación legal y dar un salto cualitativo en su política retributiva.\n			\n			\n				\n				\n				\n				\n			\n				\n				\n				\n				\n				\n				\n				\n				\n				\n				\n				PONENTES\n			\n			\n				\n				\n				\n				\n			\n				\n				\n				\n				\n				\n				\n				\n				\n				\n				\n				\n			\n				\n				\n				\n				\n				Sacri Chumillas\n			\n				\n				\n				\n				\n				Softwariza3 \n			\n			\n				\n				\n				\n				\n				\n				\n				\n				\n				\n				\n			\n				\n				\n				\n				\n				Josep Capell\n			\n				\n				\n				\n				\n				CEO en CEINSA\, S.L. \n			\n			\n				\n				\n				\n				\n				\n				\n				\n				\n				\n				\n			\n				\n				\n				\n				\n				Daniel Fernández\n			\n				\n				\n				\n				\n				Key Account Wolters Kluwer Tax & Accounting \n			\n			\n				\n				\n				\n				\n			\n				\n				\n			\n				\n				\n				\n				\n				\n				\n				\n				\n				\n				\n				\n				\n				\n			\n				\n				\n				\n				\n				\n				\n				\n				\n				\n				INSCRIPCIÓN\n			\n			\n				\n				\n				\n				\n				\n			\n				\n				\n				\n				\n			\n				\n				\n				\n				\n				\n				\n			\n				\n				\n				\n				\n				\n				\n				\n				\n				\n				6/10/2021j/n/Y9:30am CEST2021-10-06T07:30:00Zg:ia T1 hora\n			\n			\n				\n				\n				\n				\n				\n			\n				\n				\n				\n				\n			\n				\n				\n				\n				\n				\n				\n				\n				\n				\n				\n				ORGANIZA
URL:https://softwariza3.es/eventos/valoracion-de-puestos-de-la-exigencia-legal-a-los-modelos-de-gestion-retributiva/
LOCATION:Online
ATTACH;FMTTYPE=image/jpeg:https://softwariza3.es/wp-content/uploads/2021/09/Webinar-valoracion-puestos-softwariza3.jpg
END:VEVENT
END:VCALENDAR