BEGIN:VCALENDAR
VERSION:2.0
PRODID:-//Softwariza3 - ECPv6.15.20//NONSGML v1.0//EN
CALSCALE:GREGORIAN
METHOD:PUBLISH
X-WR-CALNAME:Softwariza3
X-ORIGINAL-URL:https://softwariza3.es
X-WR-CALDESC:Eventos para Softwariza3
REFRESH-INTERVAL;VALUE=DURATION:PT1H
X-Robots-Tag:noindex
X-PUBLISHED-TTL:PT1H
BEGIN:VTIMEZONE
TZID:Europe/Helsinki
BEGIN:DAYLIGHT
TZOFFSETFROM:+0200
TZOFFSETTO:+0300
TZNAME:EEST
DTSTART:20250330T010000
END:DAYLIGHT
BEGIN:STANDARD
TZOFFSETFROM:+0300
TZOFFSETTO:+0200
TZNAME:EET
DTSTART:20251026T010000
END:STANDARD
BEGIN:DAYLIGHT
TZOFFSETFROM:+0200
TZOFFSETTO:+0300
TZNAME:EEST
DTSTART:20260329T010000
END:DAYLIGHT
BEGIN:STANDARD
TZOFFSETFROM:+0300
TZOFFSETTO:+0200
TZNAME:EET
DTSTART:20261025T010000
END:STANDARD
BEGIN:DAYLIGHT
TZOFFSETFROM:+0200
TZOFFSETTO:+0300
TZNAME:EEST
DTSTART:20270328T010000
END:DAYLIGHT
BEGIN:STANDARD
TZOFFSETFROM:+0300
TZOFFSETTO:+0200
TZNAME:EET
DTSTART:20271031T010000
END:STANDARD
END:VTIMEZONE
BEGIN:VEVENT
DTSTART;TZID=Europe/Helsinki:20260422T093000
DTEND;TZID=Europe/Helsinki:20260422T101500
DTSTAMP:20260422T151433
CREATED:20260324T102422Z
LAST-MODIFIED:20260330T081005Z
UID:245233-1776850200-1776852900@softwariza3.es
SUMMARY:Transparencia salarial: conoce el riesgo\, toma el control
DESCRIPTION:Qué exige la normativa actual y cómo preparar tu empresa para evitar riesgos y sanciones\nLa transparencia salarial ya no es una cuestión futura ni una recomendación. Es una realidad normativa que ya afecta a las empresas en España y que va a reforzarse antes de junio de 2026 con la aplicación de la Directiva Europea 2023/970. Para muchas organizaciones\, el reto no está solo en conocer la ley\, sino en saber cómo aterrizarla en su gestión diaria con criterio\, trazabilidad y seguridad. \nEn esta mesa redonda\, un abogado laboralista\, un experto en Factorial y un experto en a3innuva | Nómina abordarán de forma práctica qué implica realmente esta obligación para una pyme. Analizaremos los riesgos más habituales\, qué sucede cuando aparecen diferencias salariales difíciles de justificar y cómo apoyarte en la tecnología para tener la información preparada antes de una inspección o un conflicto laboral. \n\n¿Qué aprenderás?\n📘 Qué exige hoy la normativa española y qué cambia con la Directiva Europea 2023/970. \n⚖️ Qué riesgos legales asume tu empresa sin una política retributiva documentada (sanciones\, pérdida de bonificaciones y acceso a ayudas). \n🧾 Por qué la carga de la prueba recae en la empresa en caso de conflicto laboral. \n📊 Qué ocurre al analizar por primera vez tus datos salariales y detectar posibles brechas. \n💻 Cómo apoyarte en la tecnología para tener control y trazabilidad antes de una inspección. \n\n\n\n\n\n\n\n\n\n\nReserva tu plaza y prepárate para entender\, con un enfoque claro y práctico\, cómo afrontar la transparencia salarial con más control y menos incertidumbre. \n\n\n\n\n\n\n\n\n			\n			\n				\n				\n				\n				\n			\n				\n				\n				\n				\n				\n				\n				\n				\n				\n				\n				PONENTES\n			\n			\n				\n				\n				\n				\n			\n				\n				\n				\n				\n				\n				\n				\n				\n				\n				\n				\n			\n				\n				\n				\n				\n				Andy Velásquez\n			\n				\n				\n				\n				\n				Abogado  socio en Altaria legal \n			\n			\n				\n				\n				\n				\n				\n				\n				\n				\n				\n				\n			\n				\n				\n				\n				\n				Raul Barriga\n			\n				\n				\n				\n				\n				Field Sales Manager at Wolters Kluwer \n			\n			\n				\n				\n				\n				\n			\n				\n				\n				\n				\n				\n				\n				\n				\n				\n				\n				\n			\n				\n				\n				\n				\n				Ada Morillo\n			\n				\n				\n				\n				\n				Partner Development en Factorial \n			\n			\n				\n				\n				\n				\n				\n				\n				\n				\n				\n				\n			\n				\n				\n				\n				\n				Fran Fernández\n			\n				\n				\n				\n				\n				Business Developer Softwariza3 \n			\n			\n				\n				\n				\n				\n			\n				\n				\n			\n				\n				\n				\n				\n				\n				\n				\n				\n				\n				\n				\n				\n				\n			\n				\n				\n				\n				\n				\n				\n				\n				\n				\n				INSCRIPCIÓN\n			\n			\n				\n				\n				\n				\n				\n			\n				\n				\n				\n				\n			\n				\n				\n				\n				\n				\n				\n			\n				\n				\n				\n				\n				\n				\n				\n				\n				\n				Transparencia salarial: conoce el riesgo\, toma el control22/4/2026j/n/Y9:30am CEST2026-04-22T07:30:00Zg:ia T45 minutos\n			\n			\n				\n				\n				\n				\n				\n			\n				\n				\n				\n				\n			\n				\n				\n				\n				\n				\n				\n				\n				\n				\n				\n				ORGANIZA
URL:https://softwariza3.es/eventos/transparencia-salarial-conoce-el-riesgo-toma-el-control/
LOCATION:Online
ATTACH;FMTTYPE=image/jpeg:https://softwariza3.es/wp-content/uploads/4-22-26-Transparencia-Salarial-SW3.jpg
END:VEVENT
END:VCALENDAR